BEGIN:VCALENDAR
VERSION:2.0
PRODID:-//Tahoe Housing Hub - ECPv6.11.0.1//NONSGML v1.0//EN
CALSCALE:GREGORIAN
METHOD:PUBLISH
X-WR-CALNAME:Tahoe Housing Hub
X-ORIGINAL-URL:https://tahoehousinghub.org
X-WR-CALDESC:Events for Tahoe Housing Hub
REFRESH-INTERVAL;VALUE=DURATION:PT1H
X-Robots-Tag:noindex
X-PUBLISHED-TTL:PT1H
BEGIN:VTIMEZONE
TZID:America/Los_Angeles
BEGIN:DAYLIGHT
TZOFFSETFROM:-0800
TZOFFSETTO:-0700
TZNAME:PDT
DTSTART:20250309T100000
END:DAYLIGHT
BEGIN:STANDARD
TZOFFSETFROM:-0700
TZOFFSETTO:-0800
TZNAME:PST
DTSTART:20251102T090000
END:STANDARD
END:VTIMEZONE
BEGIN:VEVENT
DTSTART;TZID=America/Los_Angeles:20250401T090000
DTEND;TZID=America/Los_Angeles:20250401T170000
DTSTAMP:20260423T035853
CREATED:20250429T002132Z
LAST-MODIFIED:20250515T003958Z
UID:1090-1743498000-1743526800@tahoehousinghub.org
SUMMARY:Placer County Board of Supervisors Meeting
DESCRIPTION:The Placer County Board of Supervisors will discuss next steps for two important housing items: \n\nDollar Creek Crossing: a proposed housing development near schools\, transit\, and community services in North Lake Tahoe. Your input can help shape housing options for residents and workers.\n“Launchpad”\, a proposed program offering incentives to build housing for local workers. This could encourage more housing to be developed\, helping address our community’s critical housing shortage.Meeting details will be posted here 72 hours prior to the date. Important note: public participation via Zoom is no longer utilized.
URL:https://tahoehousinghub.org/event/placer-county-board-of-supervisors-meeting/
LOCATION:NV
ATTACH;FMTTYPE=image/png:https://tahoehousinghub.org/wp-content/uploads/2024/11/Placer-County-Logo-e1747269561350.png
END:VEVENT
BEGIN:VEVENT
DTSTART;TZID=America/Los_Angeles:20250326T110000
DTEND;TZID=America/Los_Angeles:20250326T170000
DTSTAMP:20260423T035853
CREATED:20250429T002150Z
LAST-MODIFIED:20250515T005417Z
UID:1089-1742986800-1743008400@tahoehousinghub.org
SUMMARY:TRPA Governing Board - Changes to Placer County’s Housing Rules in the Tahoe Basin
DESCRIPTION:The TRPA Governing Board will consider changes to housing guidelines in the Placer County portion of the Tahoe Basin. These updates would make it easier to build housing close to bus routes\, stores\, jobs\, and community services. The meeting will begin no earlier than 11am and can be attended in person at the TRPA office\, 128 Market Street\, Stateline NV – or via Zoom. You can find the meeting agenda\, board packet and Zoom information here.
URL:https://tahoehousinghub.org/event/trpa-governing-board-changes-to-placer-countys-housing-rules-in-the-tahoe-basin/
LOCATION:NV
ATTACH;FMTTYPE=image/png:https://tahoehousinghub.org/wp-content/uploads/2025/04/TRPA-Logo-e1747270450893.png
END:VEVENT
END:VCALENDAR